ENVI
description = { Registration Result. Method: Triangulation w/ nearest neighbor [Fri Sep 06 12:05:35 2013]}
samples = 1486
lines = 1281
bands = 8
header offset = 0
file type = ENVI Standard
data type = 4
interleave = bsq
sensor type = Unknown
byte order = 0
map info = {Geographic Lat/Lon, 1.0000, 1.0000, -72.67347038, -29.41986561, 1.1001263511e-002, 9.0133140594e-003, WGS-84, units=Degrees}
coordinate system string = {GEOGCS["GCS_WGS_1984",DATUM["D_WGS_1984",SPHEROID["WGS_1984",6378137.0,298.257223563]],PRIMEM["Greenwich",0.0],UNIT["Degree",0.0174532925199433]]}
wavelength units = Unknown
band names = { Warp (03022013:Tvdi_Feb2013_1km), Warp (04022013:Tvdi_Feb2013_1km), Warp (06022013:Tvdi_Feb2013_1km), Warp (11022013:Tvdi_Feb2013_1km), Warp (14022013:Tvdi_Feb2013_1km), Warp (15022013:Tvdi_Feb2013_1km), Warp (26022013:Tvdi_Feb2013_1km), Warp (27022013:Tvdi_Feb2013_1km)}
