ENVI
description = { Registration Result. Method: Triangulation w/ nearest neighbor [Fri Sep 06 11:53:43 2013]}
samples = 1502
lines = 1411
bands = 10
header offset = 0
file type = ENVI Standard
data type = 4
interleave = bsq
sensor type = Unknown
byte order = 0
map info = {Geographic Lat/Lon, 1.0000, 1.0000, -72.72875957, -29.29691105, 1.1064084664e-002, 9.0126276870e-003, WGS-84, units=Degrees}
coordinate system string = {GEOGCS["GCS_WGS_1984",DATUM["D_WGS_1984",SPHEROID["WGS_1984",6378137.0,298.257223563]],PRIMEM["Greenwich",0.0],UNIT["Degree",0.0174532925199433]]}
wavelength units = Unknown
band names = { Warp (02122012:TVDI_dic_2012_1km_10bandas), Warp (07122012:TVDI_dic_2012_1km_10bandas), Warp (08122012:TVDI_dic_2012_1km_10bandas), Warp (09122012:TVDI_dic_2012_1km_10bandas), Warp (11122012:TVDI_dic_2012_1km_10bandas), Warp (12122012:TVDI_dic_2012_1km_10bandas), Warp (13122012:TVDI_dic_2012_1km_10bandas), Warp (21122012:TVDI_dic_2012_1km_10bandas), Warp (22122012:TVDI_dic_2012_1km_10bandas), Warp (25122012:TVDI_dic_2012_1km_10bandas)}
