ENVI
description = { Registration Result. Method: Triangulation w/ nearest neighbor [Fri Sep 06 12:06:43 2013]}
samples = 3051
lines = 1479
bands = 7
header offset = 0
file type = ENVI Standard
data type = 4
interleave = bsq
sensor type = Unknown
byte order = 0
map info = {Geographic Lat/Lon, 1.0000, 1.0000, -78.32398260, -28.69089230, 1.1081070695e-002, 9.0124441175e-003, WGS-84, units=Degrees}
coordinate system string = {GEOGCS["GCS_WGS_1984",DATUM["D_WGS_1984",SPHEROID["WGS_1984",6378137.0,298.257223563]],PRIMEM["Greenwich",0.0],UNIT["Degree",0.0174532925199433]]}
wavelength units = Unknown
band names = { Warp (05032013:TVDI_mar_2013_1km), Warp (06032013:TVDI_mar_2013_1km), Warp (22032013:TVDI_mar_2013_1km), Warp (26032013:TVDI_mar_2013_1km), Warp (27032013:TVDI_mar_2013_1km), Warp (28032013:TVDI_mar_2013_1km), Warp (29032013:TVDI_mar_2013_1km)}
